BEGIN:VCALENDAR
VERSION:2.0
PRODID:-//wp-events-plugin.com//7.2.3.1//EN
TZID:Australia/Adelaide
X-WR-TIMEZONE:Australia/Adelaide
BEGIN:VEVENT
UID:63@saburlesque.com
DTSTART;TZID=Australia/Adelaide:20250822T200000
DTEND;TZID=Australia/Adelaide:20250822T213000
DTSTAMP:20250425T085434Z
URL:https://www.saburlesque.com/events/tassels-tummies-a-fat-burlesque/
SUMMARY:Tassels &amp\; Tummies: A Fat Burlesque
DESCRIPTION:TBC
ATTACH;FMTTYPE=image/jpeg:https://www.saburlesque.com/wp-content/uploads/2
 025/04/Liceria-store-1.png
END:VEVENT
BEGIN:VTIMEZONE
TZID:Australia/Adelaide
X-LIC-LOCATION:Australia/Adelaide
BEGIN:STANDARD
DTSTART:20250406T020000
TZOFFSETFROM:+1030
TZOFFSETTO:+0930
TZNAME:ACST
END:STANDARD
END:VTIMEZONE
END:VCALENDAR